BEGIN:VCALENDAR
VERSION:2.0
PRODID:-//Protect Child//ELSI Seminar//EN
CALSCALE:GREGORIAN
METHOD:PUBLISH
BEGIN:VEVENT
SUMMARY:ELSI Seminar: EU Clinical Trials Regulation (CTR)
UID:elsi-seminar-ctr-20260326@protect-child.eu
DTSTAMP:20260317T120000Z
DTSTART:20260326T120000Z
DTEND:20260326T133000Z
DESCRIPTION:Seminar on "EU Clinical Trials Regulation (CTR): Regulatory Framework and Practical Challenges after the Transition Period", presented by Dr. Francesca Gennari (PhD in Law Science and Technology, LIDER Lab – Istituto Dirpolis, Scuola Superiore Sant’Anna).\n\nMeeting link: https://meet.google.com/yrv-yigo-eja
LOCATION:https://meet.google.com/yrv-yigo-eja
STATUS:CONFIRMED
SEQUENCE:0
END:VEVENT
END:VCALENDAR